BEGIN:VCALENDAR
VERSION:2.0
PRODID:SchoolNow
CALSCALE:GREGORIAN
BEGIN:VEVENT
UID:aa5bea40-881c-11ec-a463-0e676cd3e445
DTSTAMP:20220207T134844Z
SUMMARY:End of Trimester 2
URL;VALUE=URI:https://www.gls36.org/calendar/3094317/end-of-trimester-2
DTSTART;VALUE=DATE:20220223
DTEND;VALUE=DATE:20220224
END:VEVENT
END:VCALENDAR
