BEGIN:VCALENDAR
VERSION:2.0
PRODID:SchoolNow
CALSCALE:GREGORIAN
BEGIN:VEVENT
UID:df69e2fc-82d4-11ec-95c3-0af017070991
DTSTAMP:20220131T203213Z
SUMMARY:Grade 8 Parent Meeting
URL;VALUE=URI:https://www.gls36.org/calendar/3087229/grade-8-parent-meeting
DTSTART:20220204T003000Z
DTEND:20220204T013000Z
END:VEVENT
END:VCALENDAR
