BEGIN:VCALENDAR
VERSION:2.0
PRODID:SchoolNow
CALSCALE:GREGORIAN
BEGIN:VEVENT
UID:f7124756-8049-11ec-bef2-0ac9b2006591
DTSTAMP:20220128T145250Z
SUMMARY:Parent Forum
URL;VALUE=URI:https://www.gls36.org/calendar/3084211/parent-forum
DTSTART:20220202T000000Z
DTEND:20220202T010000Z
END:VEVENT
END:VCALENDAR
