BEGIN:VCALENDAR
VERSION:2.0
PRODID:SchoolNow
CALSCALE:GREGORIAN
BEGIN:VEVENT
UID:7d68b1e0-8041-11ec-9ecd-02347bdff91d
DTSTAMP:20220128T135210Z
SUMMARY:Grade 5-8 Open Gym
URL;VALUE=URI:https://www.gls36.org/calendar/3084205/grade-5-8-open-gym
DTSTART:20220130T160000Z
DTEND:20220130T180000Z
END:VEVENT
END:VCALENDAR
