BEGIN:VCALENDAR
VERSION:2.0
PRODID:SchoolNow
CALSCALE:GREGORIAN
BEGIN:VEVENT
UID:db6330ae-7d35-11ec-9fea-0e1ec8758421
DTSTAMP:20220124T165120Z
SUMMARY:No Musical Practice
URL;VALUE=URI:https://www.gls36.org/calendar/3080648/no-musical-practice
DTSTART:20220127T211500Z
DTEND:20220127T230000Z
END:VEVENT
END:VCALENDAR
