BEGIN:VCALENDAR
VERSION:2.0
PRODID:SchoolNow
CALSCALE:GREGORIAN
BEGIN:VEVENT
UID:e31bac12-7d2c-11ec-bb7b-02acace65ebf
DTSTAMP:20220124T154708Z
SUMMARY:No Band/Choir
URL;VALUE=URI:https://www.gls36.org/calendar/3080643/no-band-choir
DTSTART:20220128T204500Z
DTEND:20220128T211500Z
END:VEVENT
END:VCALENDAR
