BEGIN:VCALENDAR
VERSION:2.0
PRODID:SchoolNow
CALSCALE:GREGORIAN
BEGIN:VEVENT
UID:c46ce178-7d2c-11ec-ac7b-02acace65ebf
DTSTAMP:20220124T154616Z
SUMMARY:No Band/Choir
URL;VALUE=URI:https://www.gls36.org/calendar/3080641/no-band-choir
DTSTART:20220127T204500Z
DTEND:20220127T211500Z
END:VEVENT
END:VCALENDAR
