BEGIN:VCALENDAR
VERSION:2.0
PRODID:SchoolNow
CALSCALE:GREGORIAN
BEGIN:VEVENT
UID:c6889ae6-749a-11ec-9e1c-0e3399019e91
DTSTAMP:20220113T180104Z
SUMMARY:Stage Crew
URL;VALUE=URI:https://www.gls36.org/calendar/3073879/stage-crew
DTSTART:20220216T211500Z
DTEND:20220216T230000Z
END:VEVENT
END:VCALENDAR
