BEGIN:VCALENDAR
VERSION:2.0
PRODID:SchoolNow
CALSCALE:GREGORIAN
BEGIN:VEVENT
UID:3c19990a-749a-11ec-b3e0-0e3399019e91
DTSTAMP:20220113T175712Z
SUMMARY:Stage Crew
URL;VALUE=URI:https://www.gls36.org/calendar/3073876/stage-crew
DTSTART:20220209T211500Z
DTEND:20220209T230000Z
END:VEVENT
END:VCALENDAR
