BEGIN:VCALENDAR
VERSION:2.0
PRODID:SchoolNow
CALSCALE:GREGORIAN
BEGIN:VEVENT
UID:fc43ae88-7499-11ec-89bd-0e3399019e91
DTSTAMP:20220113T175525Z
SUMMARY:Stage Crew
URL;VALUE=URI:https://www.gls36.org/calendar/3073875/stage-crew
DTSTART:20220207T211500Z
DTEND:20220207T230000Z
END:VEVENT
END:VCALENDAR
