BEGIN:VCALENDAR
VERSION:2.0
PRODID:SchoolNow
CALSCALE:GREGORIAN
BEGIN:VEVENT
UID:2b3dfa76-7496-11ec-b047-02e79a174cd9
DTSTAMP:20220113T172806Z
SUMMARY:Musical Practice
URL;VALUE=URI:https://www.gls36.org/calendar/3073854/musical-practice
DTSTART:20220225T211500Z
DTEND:20220225T230000Z
END:VEVENT
END:VCALENDAR
