BEGIN:VCALENDAR
VERSION:2.0
PRODID:SchoolNow
CALSCALE:GREGORIAN
BEGIN:VEVENT
UID:fb558bbc-7495-11ec-8481-02e79a174cd9
DTSTAMP:20220113T172645Z
SUMMARY:Musical Practice
URL;VALUE=URI:https://www.gls36.org/calendar/3073852/musical-practice
DTSTART:20220223T211500Z
DTEND:20220223T230000Z
END:VEVENT
END:VCALENDAR
