BEGIN:VCALENDAR
VERSION:2.0
PRODID:SchoolNow
CALSCALE:GREGORIAN
BEGIN:VEVENT
UID:e6283f32-7495-11ec-8e69-02e79a174cd9
DTSTAMP:20220113T172610Z
SUMMARY:Musical Practice
URL;VALUE=URI:https://www.gls36.org/calendar/3073850/musical-practice
DTSTART:20220222T211500Z
DTEND:20220222T230000Z
END:VEVENT
END:VCALENDAR
