BEGIN:VCALENDAR
VERSION:2.0
PRODID:SchoolNow
CALSCALE:GREGORIAN
BEGIN:VEVENT
UID:96a2f3d0-7495-11ec-b900-02e79a174cd9
DTSTAMP:20220113T172356Z
SUMMARY:Musical Practice
URL;VALUE=URI:https://www.gls36.org/calendar/3073849/musical-practice
DTSTART:20220218T211500Z
DTEND:20220218T230000Z
END:VEVENT
END:VCALENDAR
