BEGIN:VCALENDAR
VERSION:2.0
PRODID:SchoolNow
CALSCALE:GREGORIAN
BEGIN:VEVENT
UID:82dc722c-7495-11ec-a06b-02e79a174cd9
DTSTAMP:20220113T172323Z
SUMMARY:Musical Practice
URL;VALUE=URI:https://www.gls36.org/calendar/3073848/musical-practice
DTSTART:20220217T211500Z
DTEND:20220217T230000Z
END:VEVENT
END:VCALENDAR
