BEGIN:VCALENDAR
VERSION:2.0
PRODID:SchoolNow
CALSCALE:GREGORIAN
BEGIN:VEVENT
UID:70f797f8-7495-11ec-9272-02e79a174cd9
DTSTAMP:20220113T172253Z
SUMMARY:Musical Practice
URL;VALUE=URI:https://www.gls36.org/calendar/3073847/musical-practice
DTSTART:20220216T211500Z
DTEND:20220216T230000Z
END:VEVENT
END:VCALENDAR
