BEGIN:VCALENDAR
VERSION:2.0
PRODID:SchoolNow
CALSCALE:GREGORIAN
BEGIN:VEVENT
UID:2a81825c-7495-11ec-a6dc-02e79a174cd9
DTSTAMP:20220113T172055Z
SUMMARY:Musical Practice
URL;VALUE=URI:https://www.gls36.org/calendar/3073845/musical-practice
DTSTART:20220214T211500Z
DTEND:20220214T230000Z
END:VEVENT
END:VCALENDAR
