BEGIN:VCALENDAR
VERSION:2.0
PRODID:SchoolNow
CALSCALE:GREGORIAN
BEGIN:VEVENT
UID:f975c344-7494-11ec-ae9a-02e79a174cd9
DTSTAMP:20220113T171933Z
SUMMARY:Musical Practice
URL;VALUE=URI:https://www.gls36.org/calendar/3073843/musical-practice
DTSTART:20220210T211500Z
DTEND:20220210T230000Z
END:VEVENT
END:VCALENDAR
