BEGIN:VCALENDAR
VERSION:2.0
PRODID:SchoolNow
CALSCALE:GREGORIAN
BEGIN:VEVENT
UID:d869ddf2-7494-11ec-b438-02e79a174cd9
DTSTAMP:20220113T171837Z
SUMMARY:Musical Practice
URL;VALUE=URI:https://www.gls36.org/calendar/3073841/musical-practice
DTSTART:20220208T211500Z
DTEND:20220208T230000Z
END:VEVENT
END:VCALENDAR
