BEGIN:VCALENDAR
VERSION:2.0
PRODID:SchoolNow
CALSCALE:GREGORIAN
BEGIN:VEVENT
UID:c6694e94-7494-11ec-8428-02e79a174cd9
DTSTAMP:20220113T171807Z
SUMMARY:Musical Practice
URL;VALUE=URI:https://www.gls36.org/calendar/3073840/musical-practice
DTSTART:20220207T211500Z
DTEND:20220207T230000Z
END:VEVENT
END:VCALENDAR
