BEGIN:VCALENDAR
VERSION:2.0
PRODID:SchoolNow
CALSCALE:GREGORIAN
BEGIN:VEVENT
UID:b1b01316-7494-11ec-b6b7-02e79a174cd9
DTSTAMP:20220113T171732Z
SUMMARY:Musical Practice
URL;VALUE=URI:https://www.gls36.org/calendar/3073839/musical-practice
DTSTART:20220203T211500Z
DTEND:20220203T230000Z
END:VEVENT
END:VCALENDAR
