BEGIN:VCALENDAR
VERSION:2.0
PRODID:SchoolNow
CALSCALE:GREGORIAN
BEGIN:VEVENT
UID:8f149548-7494-11ec-9883-02e79a174cd9
DTSTAMP:20220113T171634Z
SUMMARY:Musical Practice
URL;VALUE=URI:https://www.gls36.org/calendar/3073838/musical-practice
DTSTART:20220201T211500Z
DTEND:20220201T230000Z
END:VEVENT
END:VCALENDAR
