BEGIN:VCALENDAR
VERSION:2.0
PRODID:SchoolNow
CALSCALE:GREGORIAN
BEGIN:VEVENT
UID:55a5486a-7300-11ec-94a6-0a4d97b5c49d
DTSTAMP:20220111T170301Z
SUMMARY:Stage Crew
URL;VALUE=URI:https://www.gls36.org/calendar/3071469/stage-crew
DTSTART:20220131T211500Z
DTEND:20220131T230000Z
END:VEVENT
END:VCALENDAR
