BEGIN:VCALENDAR
VERSION:2.0
PRODID:SchoolNow
CALSCALE:GREGORIAN
BEGIN:VEVENT
UID:382ea042-7300-11ec-8ce0-0a4d97b5c49d
DTSTAMP:20220111T170212Z
SUMMARY:Stage Crew
URL;VALUE=URI:https://www.gls36.org/calendar/3071468/stage-crew
DTSTART:20220126T211500Z
DTEND:20220126T230000Z
END:VEVENT
END:VCALENDAR
