BEGIN:VCALENDAR
VERSION:2.0
PRODID:SchoolNow
CALSCALE:GREGORIAN
BEGIN:VEVENT
UID:1426d3ae-7300-11ec-b9e6-0a4d97b5c49d
DTSTAMP:20220111T170111Z
SUMMARY:Stage Crew
URL;VALUE=URI:https://www.gls36.org/calendar/3071467/stage-crew
DTSTART:20220124T211500Z
DTEND:20220124T230000Z
END:VEVENT
END:VCALENDAR
