BEGIN:VCALENDAR
VERSION:2.0
PRODID:SchoolNow
CALSCALE:GREGORIAN
BEGIN:VEVENT
UID:fc027b2a-72ff-11ec-8d8f-0a4d97b5c49d
DTSTAMP:20220111T170031Z
SUMMARY:Stage Crew
URL;VALUE=URI:https://www.gls36.org/calendar/3071466/stage-crew
DTSTART:20220119T211500Z
DTEND:20220119T230000Z
END:VEVENT
END:VCALENDAR
