BEGIN:VCALENDAR
VERSION:2.0
PRODID:SchoolNow
CALSCALE:GREGORIAN
BEGIN:VEVENT
UID:d4de8372-72ff-11ec-89ee-0a4d97b5c49d
DTSTAMP:20220111T165925Z
SUMMARY:Stage Crew
URL;VALUE=URI:https://www.gls36.org/calendar/3071310/stage-crew
DTSTART:20220112T211500Z
DTEND:20220112T230000Z
END:VEVENT
END:VCALENDAR
