BEGIN:VCALENDAR
VERSION:2.0
PRODID:SchoolNow
CALSCALE:GREGORIAN
BEGIN:VEVENT
UID:b86f721e-72ff-11ec-886c-0a4d97b5c49d
DTSTAMP:20220111T165837Z
SUMMARY:Musical Practice
URL;VALUE=URI:https://www.gls36.org/calendar/3071308/musical-practice
DTSTART:20220131T211500Z
DTEND:20220131T230000Z
END:VEVENT
END:VCALENDAR
