BEGIN:VCALENDAR
VERSION:2.0
PRODID:SchoolNow
CALSCALE:GREGORIAN
BEGIN:VEVENT
UID:97031194-72ff-11ec-96bd-0a4d97b5c49d
DTSTAMP:20220124T165048Z
SUMMARY:No Musical Practice
URL;VALUE=URI:https://www.gls36.org/calendar/3071211/musical-practice
DTSTART:20220128T211500Z
DTEND:20220128T230000Z
END:VEVENT
END:VCALENDAR
