BEGIN:VCALENDAR
VERSION:2.0
PRODID:SchoolNow
CALSCALE:GREGORIAN
BEGIN:VEVENT
UID:11b573f6-72ff-11ec-8733-0a4d97b5c49d
DTSTAMP:20220111T165358Z
SUMMARY:Musical Practice
URL;VALUE=URI:https://www.gls36.org/calendar/3070809/musical-practice
DTSTART:20220120T211500Z
DTEND:20220120T230000Z
END:VEVENT
END:VCALENDAR
