BEGIN:VCALENDAR
VERSION:2.0
PRODID:SchoolNow
CALSCALE:GREGORIAN
BEGIN:VEVENT
UID:e231a618-72fe-11ec-922f-0a4d97b5c49d
DTSTAMP:20220111T165238Z
SUMMARY:Musical Practice
URL;VALUE=URI:https://www.gls36.org/calendar/3070787/musical-practice
DTSTART:20220118T211500Z
DTEND:20220118T230000Z
END:VEVENT
END:VCALENDAR
