BEGIN:VCALENDAR
VERSION:2.0
PRODID:SchoolNow
CALSCALE:GREGORIAN
BEGIN:VEVENT
UID:666a43e6-72fe-11ec-b779-0a4d97b5c49d
DTSTAMP:20220111T164910Z
SUMMARY:Musical Practice
URL;VALUE=URI:https://www.gls36.org/calendar/3070714/musical-practice
DTSTART:20220111T091500Z
DTEND:20220111T230000Z
END:VEVENT
END:VCALENDAR
