BEGIN:VCALENDAR
VERSION:2.0
PRODID:SchoolNow
CALSCALE:GREGORIAN
BEGIN:VEVENT
UID:b57c0f4c-721c-11ec-b0ef-02eb081bb027
DTSTAMP:20220131T203819Z
SUMMARY:Family Night! Escape Room Challenge!
URL;VALUE=URI:https://www.gls36.org/calendar/3066073/family-night-escape-ro
 om-challenge
DTSTART:20220224T233000Z
DTEND:20220225T003000Z
END:VEVENT
END:VCALENDAR
