BEGIN:VCALENDAR
VERSION:2.0
PRODID:SchoolNow
CALSCALE:GREGORIAN
BEGIN:VEVENT
UID:71db79e4-6ca9-11ec-bec6-0a9dfe186a2b
DTSTAMP:20220103T152555Z
SUMMARY:School Musical Auditions for Grade 4-8
URL;VALUE=URI:https://www.gls36.org/calendar/3028699/school-musical-auditio
 ns-for-grade-4-8-clone
DTSTART:20220105T211500Z
DTEND:20220105T230000Z
ATTACH;FILENAME=SHR Audition Flyer.pdf;FMTTYPE=application/pdf:https://camp
 ussuite-storage.s3.amazonaws.com/prod/1053760/6c73247f-2f62-11e7-b792-2200
 0bd8490f/2359094/5cd9f6ce-6ca9-11ec-a0b7-0a9dfe186a2b/file/SHR Audition Fl
 yer.pdf
END:VEVENT
END:VCALENDAR
