BEGIN:VCALENDAR
VERSION:2.0
PRODID:SchoolNow
CALSCALE:GREGORIAN
BEGIN:VEVENT
UID:6f9aa856-6bed-11ec-974a-0ea78a524d15
DTSTAMP:20220102T170006Z
SUMMARY:Girls Basketball Home vs North Prairie
URL;VALUE=URI:https://www.gls36.org/calendar/3025189/girls-basketball-home-
 vs-north-prairie
DTSTART:20220217T223000Z
DTEND:20220217T233000Z
END:VEVENT
END:VCALENDAR
