BEGIN:VCALENDAR
VERSION:2.0
PRODID:SchoolNow
CALSCALE:GREGORIAN
BEGIN:VEVENT
UID:3a5a01e6-6bed-11ec-b480-0ea78a524d15
DTSTAMP:20220102T165837Z
SUMMARY:Girls Basketball Home vs Alden Hebron
URL;VALUE=URI:https://www.gls36.org/calendar/3025187/girls-basketball-home-
 vs-alden-hebron
DTSTART:20220215T223000Z
DTEND:20220215T233000Z
END:VEVENT
END:VCALENDAR
