BEGIN:VCALENDAR
VERSION:2.0
PRODID:SchoolNow
CALSCALE:GREGORIAN
BEGIN:VEVENT
UID:f818243e-6bec-11ec-af74-0ea78a524d15
DTSTAMP:20220102T165646Z
SUMMARY:Girls Basketball  Away at Park
URL;VALUE=URI:https://www.gls36.org/calendar/3025185/girls-basketball-away-
 at-park
DTSTART:20220214T223000Z
DTEND:20220214T233000Z
END:VEVENT
END:VCALENDAR
