BEGIN:VCALENDAR
VERSION:2.0
PRODID:SchoolNow
CALSCALE:GREGORIAN
BEGIN:VEVENT
UID:db290fa0-6bec-11ec-93e6-0ea78a524d15
DTSTAMP:20220119T142132Z
SUMMARY:Girls Basketball Home vs Johnsburg
URL;VALUE=URI:https://www.gls36.org/calendar/3025183/girls-basketball-home-
 vs-gavin-south
DTSTART:20220210T223000Z
DTEND:20220210T233000Z
END:VEVENT
END:VCALENDAR
