BEGIN:VCALENDAR
VERSION:2.0
PRODID:SchoolNow
CALSCALE:GREGORIAN
BEGIN:VEVENT
UID:b107de22-6bec-11ec-a5b9-0ea78a524d15
DTSTAMP:20220102T165446Z
SUMMARY:Girls Basketball Away at Stanton
URL;VALUE=URI:https://www.gls36.org/calendar/3025181/girls-basketball-away-
 at-stanton
DTSTART:20220208T223000Z
DTEND:20220208T233000Z
END:VEVENT
END:VCALENDAR
