BEGIN:VCALENDAR
VERSION:2.0
PRODID:SchoolNow
CALSCALE:GREGORIAN
BEGIN:VEVENT
UID:80129cbc-6bec-11ec-b7ec-0ea78a524d15
DTSTAMP:20220102T165324Z
SUMMARY:Girls Basketball Away at Prairie Crossing
URL;VALUE=URI:https://www.gls36.org/calendar/3025179/girls-basketball-away-
 at-prairie-crossing
DTSTART:20220207T223000Z
DTEND:20220207T233000Z
END:VEVENT
END:VCALENDAR
