BEGIN:VCALENDAR
VERSION:2.0
PRODID:SchoolNow
CALSCALE:GREGORIAN
BEGIN:VEVENT
UID:6221016c-6bec-11ec-8123-0ea78a524d15
DTSTAMP:20220102T165234Z
SUMMARY:Girls Basketball Home vs Emmons
URL;VALUE=URI:https://www.gls36.org/calendar/3025177/girls-basketball-home-
 vs-emmons
DTSTART:20220203T223000Z
DTEND:20220203T233000Z
END:VEVENT
END:VCALENDAR
