BEGIN:VCALENDAR
VERSION:2.0
PRODID:SchoolNow
CALSCALE:GREGORIAN
BEGIN:VEVENT
UID:fabc38b6-6beb-11ec-b64f-0ea78a524d15
DTSTAMP:20220102T164940Z
SUMMARY:Girls Basketball Away at Alden Hebron
URL;VALUE=URI:https://www.gls36.org/calendar/3025173/girls-basketball-away-
 at-alden-hebron
DTSTART:20220131T223000Z
DTEND:20220131T233000Z
END:VEVENT
END:VCALENDAR
