BEGIN:VCALENDAR
VERSION:2.0
PRODID:SchoolNow
CALSCALE:GREGORIAN
BEGIN:VEVENT
UID:da9b9612-6beb-11ec-a4c2-0ea78a524d15
DTSTAMP:20220102T164847Z
SUMMARY:Girls Basketball Home vs Park
URL;VALUE=URI:https://www.gls36.org/calendar/3025171/girls-basketball-home-
 vs-park
DTSTART:20220127T223000Z
DTEND:20220127T233000Z
END:VEVENT
END:VCALENDAR
