BEGIN:VCALENDAR
VERSION:2.0
PRODID:SchoolNow
CALSCALE:GREGORIAN
BEGIN:VEVENT
UID:559320a2-6beb-11ec-ac42-0ea78a524d15
DTSTAMP:20220102T164503Z
SUMMARY:Girls Basketball Home vs Stanton
URL;VALUE=URI:https://www.gls36.org/calendar/3025167/girls-basketball-home-
 vs-stanton
DTSTART:20220124T223000Z
DTEND:20220124T233000Z
END:VEVENT
END:VCALENDAR
