BEGIN:VCALENDAR
VERSION:2.0
PRODID:SchoolNow
CALSCALE:GREGORIAN
BEGIN:VEVENT
UID:2124102e-6beb-11ec-a7c5-0ea78a524d15
DTSTAMP:20220119T142001Z
SUMMARY:Girls Basketball Home Game vs Prairie Crossing
URL;VALUE=URI:https://www.gls36.org/calendar/3025165/home-game-vs-prairie-c
 rossing
DTSTART:20220216T223000Z
DTEND:20220216T233000Z
END:VEVENT
END:VCALENDAR
