BEGIN:VCALENDAR
VERSION:2.0
PRODID:SchoolNow
CALSCALE:GREGORIAN
BEGIN:VEVENT
UID:c3ba507e-6bea-11ec-a02c-0ea78a524d15
DTSTAMP:20220102T164059Z
SUMMARY:Girls Basketball Parent Meeting
URL;VALUE=URI:https://www.gls36.org/calendar/3025163/girls-basketball-paren
 t-meeting
DTSTART:20220105T231500Z
DTEND:20220105T234500Z
END:VEVENT
END:VCALENDAR
