BEGIN:VCALENDAR
VERSION:2.0
PRODID:SchoolNow
CALSCALE:GREGORIAN
BEGIN:VEVENT
UID:f7f91290-6be9-11ec-ac72-0af57581349d
DTSTAMP:20220102T163517Z
SUMMARY:Girls Basketball Starts
URL;VALUE=URI:https://www.gls36.org/calendar/3024414/girls-basketball-start
 s
DTSTART:20220103T211500Z
DTEND:20220103T230000Z
END:VEVENT
END:VCALENDAR
