BEGIN:VCALENDAR
VERSION:2.0
PRODID:SchoolNow
CALSCALE:GREGORIAN
BEGIN:VEVENT
UID:1d2e464c-6272-11ec-9a08-028a634dcea5
DTSTAMP:20211221T152448Z
SUMMARY:Eighth Grade Parent Meeting
URL;VALUE=URI:https://www.gls36.org/calendar/2966697/eighth-grade-parent-me
 eting
DTSTART:20220107T000000Z
DTEND:20220107T010000Z
END:VEVENT
END:VCALENDAR
