BEGIN:VCALENDAR
VERSION:2.0
PRODID:SchoolNow
CALSCALE:GREGORIAN
BEGIN:VEVENT
UID:5021bde8-547d-11ec-bb39-029e5235197b
DTSTAMP:20220106T194647Z
SUMMARY:VIRTUAL Eighth Grade Open House at ACHS
URL;VALUE=URI:https://www.gls36.org/calendar/2928482/eighth-grade-open-hous
 e-at-achs
DTSTART:20220114T003000Z
DTEND:20220114T020000Z
ATTACH;FILENAME=Open House Class of 2026.pdf;FMTTYPE=application/pdf:https:
 //campussuite-storage.s3.amazonaws.com/prod/1053760/6c73247f-2f62-11e7-b79
 2-22000bd8490f/2360645/2b4f35f6-6f29-11ec-9a63-0e01b1643f27/file/Open Hous
 e Class of 2026.pdf
END:VEVENT
END:VCALENDAR
