BEGIN:VCALENDAR
VERSION:2.0
PRODID:SchoolNow
CALSCALE:GREGORIAN
BEGIN:VEVENT
UID:cd1f260e-46f0-11ec-b9c9-0e75cb554483
DTSTAMP:20211116T152058Z
SUMMARY:Spelling Bee!
URL;VALUE=URI:https://www.gls36.org/calendar/2896964/spelling-bee
DTSTART:20220120T153000Z
DTEND:20220120T163000Z
END:VEVENT
END:VCALENDAR
